BEGIN:VCALENDAR
VERSION:2.0
PRODID:-//Lenises Cafe - ECPv6.15.20//NONSGML v1.0//EN
CALSCALE:GREGORIAN
METHOD:PUBLISH
X-ORIGINAL-URL:https://lenisescafe.com
X-WR-CALDESC:Events for Lenises Cafe
REFRESH-INTERVAL;VALUE=DURATION:PT1H
X-Robots-Tag:noindex
X-PUBLISHED-TTL:PT1H
BEGIN:VTIMEZONE
TZID:America/Los_Angeles
BEGIN:DAYLIGHT
TZOFFSETFROM:-0800
TZOFFSETTO:-0700
TZNAME:PDT
DTSTART:20250309T100000
END:DAYLIGHT
BEGIN:STANDARD
TZOFFSETFROM:-0700
TZOFFSETTO:-0800
TZNAME:PST
DTSTART:20251102T090000
END:STANDARD
BEGIN:DAYLIGHT
TZOFFSETFROM:-0800
TZOFFSETTO:-0700
TZNAME:PDT
DTSTART:20260308T100000
END:DAYLIGHT
BEGIN:STANDARD
TZOFFSETFROM:-0700
TZOFFSETTO:-0800
TZNAME:PST
DTSTART:20261101T090000
END:STANDARD
BEGIN:DAYLIGHT
TZOFFSETFROM:-0800
TZOFFSETTO:-0700
TZNAME:PDT
DTSTART:20270314T100000
END:DAYLIGHT
BEGIN:STANDARD
TZOFFSETFROM:-0700
TZOFFSETTO:-0800
TZNAME:PST
DTSTART:20271107T090000
END:STANDARD
END:VTIMEZONE
BEGIN:VEVENT
DTSTART;TZID=America/Los_Angeles:20260207T190000
DTEND;TZID=America/Los_Angeles:20260207T220000
DTSTAMP:20260419T090654
CREATED:20251211T195324Z
LAST-MODIFIED:20251211T195419Z
UID:505-1770490800-1770501600@lenisescafe.com
SUMMARY:11 Year Anniversary Celebration
DESCRIPTION:
URL:https://lenisescafe.com/event/11-year-anniversary-celebration/
LOCATION:Lenise’s Cafe\, 3150 Jefferson Blvd\, West Sacramento\, CA\, 95691\, United States
ATTACH;FMTTYPE=image/jpeg:https://lenisescafe.com/wp-content/uploads/2025/12/Tess.jpg
END:VEVENT
BEGIN:VEVENT
DTSTART;TZID=America/Los_Angeles:20260214T090000
DTEND;TZID=America/Los_Angeles:20260214T150000
DTSTAMP:20260419T090654
CREATED:20260130T192113Z
LAST-MODIFIED:20260130T195100Z
UID:518-1771059600-1771081200@lenisescafe.com
SUMMARY:Spunky Flowers for Valentines Day! 9am until Gone
DESCRIPTION:
URL:https://lenisescafe.com/event/spunky-flowers-for-valentines-day-9am-until-gone/
LOCATION:Lenise’s Cafe\, 3150 Jefferson Blvd\, West Sacramento\, CA\, 95691\, United States
ATTACH;FMTTYPE=image/jpeg:https://lenisescafe.com/wp-content/uploads/2026/01/flower-1.jpg
END:VEVENT
BEGIN:VEVENT
DTSTART;TZID=America/Los_Angeles:20260214T180000
DTEND;TZID=America/Los_Angeles:20260214T200000
DTSTAMP:20260419T090654
CREATED:20260130T190847Z
LAST-MODIFIED:20260204T194027Z
UID:516-1771092000-1771099200@lenisescafe.com
SUMMARY:Valentines BBQ Steak and Shrimp Dinner - Live Music with Aiko Shimada Jazz Quintet
DESCRIPTION:
URL:https://lenisescafe.com/event/valentines-date-night/
LOCATION:Lenise’s Cafe\, 3150 Jefferson Blvd\, West Sacramento\, CA\, 95691\, United States
ATTACH;FMTTYPE=image/jpeg:https://lenisescafe.com/wp-content/uploads/2026/01/bbq.jpg
END:VEVENT
BEGIN:VEVENT
DTSTART;TZID=America/Los_Angeles:20260220T180000
DTEND;TZID=America/Los_Angeles:20260220T210000
DTSTAMP:20260419T090654
CREATED:20260130T194640Z
LAST-MODIFIED:20260219T215247Z
UID:528-1771610400-1771621200@lenisescafe.com
SUMMARY:Poker Night at Lenise's Cafe
DESCRIPTION:Join us for a Fun Night of 7 Card Stud! \nNo Cash Prizes!  Purchase food and drinks to gain game credits. \nLENISE’S CAFE POKER NIGHT\nNO CASH • TEXAS HOLD’EM • NO CASH\nA fun\, social\, NO CASH Texas Hold’em poker night.\nNo gambling — just chips\, learning\, laughs\, and friendly competition.\n6:00 PM – 9:00 PM \n\nArrive at or before 6:00 PM to receive a bonus starting stack (50 credits of chips)\nAdditional chips earned through cafe purchases:\nEvery $6 spent (before tax/tip) = +50 credits\nExamples:\n• Beer or wine = +50 credits\n• Coffee + mufYin = +50 credits\nLast call for chip-earning purchases: 7:30 PM \nPRIZES\nPrize support depends on:\n• Player turnout • Cafe participation\nNO CASH PRIZES\nLikely prizes may include:\n• Cafe gift cards • Merchandise • Drinks or cafe items \n \n 
URL:https://lenisescafe.com/event/poker-night-at-lenises-cafe/
LOCATION:Lenise’s Cafe\, 3150 Jefferson Blvd\, West Sacramento\, CA\, 95691\, United States
ATTACH;FMTTYPE=image/jpeg:https://lenisescafe.com/wp-content/uploads/2026/01/chip.jpg
END:VEVENT
BEGIN:VEVENT
DTSTART;TZID=America/Los_Angeles:20260227T180000
DTEND;TZID=America/Los_Angeles:20260227T203000
DTSTAMP:20260419T090654
CREATED:20260130T193630Z
LAST-MODIFIED:20260130T193737Z
UID:521-1772215200-1772224200@lenisescafe.com
SUMMARY:Welcome Sign - Workshop and Wine!
DESCRIPTION:
URL:https://lenisescafe.com/event/welcome-sign-workshop/
LOCATION:Lenise’s Cafe\, 3150 Jefferson Blvd\, West Sacramento\, CA\, 95691\, United States
END:VEVENT
END:VCALENDAR