BEGIN:VCALENDAR
VERSION:2.0
PRODID:-//Lenises Cafe - ECPv6.15.20//NONSGML v1.0//EN
CALSCALE:GREGORIAN
METHOD:PUBLISH
X-WR-CALNAME:Lenises Cafe
X-ORIGINAL-URL:https://lenisescafe.com
X-WR-CALDESC:Events for Lenises Cafe
REFRESH-INTERVAL;VALUE=DURATION:PT1H
X-Robots-Tag:noindex
X-PUBLISHED-TTL:PT1H
BEGIN:VTIMEZONE
TZID:America/Los_Angeles
BEGIN:DAYLIGHT
TZOFFSETFROM:-0800
TZOFFSETTO:-0700
TZNAME:PDT
DTSTART:20250309T100000
END:DAYLIGHT
BEGIN:STANDARD
TZOFFSETFROM:-0700
TZOFFSETTO:-0800
TZNAME:PST
DTSTART:20251102T090000
END:STANDARD
BEGIN:DAYLIGHT
TZOFFSETFROM:-0800
TZOFFSETTO:-0700
TZNAME:PDT
DTSTART:20260308T100000
END:DAYLIGHT
BEGIN:STANDARD
TZOFFSETFROM:-0700
TZOFFSETTO:-0800
TZNAME:PST
DTSTART:20261101T090000
END:STANDARD
BEGIN:DAYLIGHT
TZOFFSETFROM:-0800
TZOFFSETTO:-0700
TZNAME:PDT
DTSTART:20270314T100000
END:DAYLIGHT
BEGIN:STANDARD
TZOFFSETFROM:-0700
TZOFFSETTO:-0800
TZNAME:PST
DTSTART:20271107T090000
END:STANDARD
END:VTIMEZONE
BEGIN:VEVENT
DTSTART;TZID=America/Los_Angeles:20260327T190000
DTEND;TZID=America/Los_Angeles:20260327T210000
DTSTAMP:20260419T085840
CREATED:20260327T145937Z
LAST-MODIFIED:20260327T150016Z
UID:576-1774638000-1774645200@lenisescafe.com
SUMMARY:Aiko Shimada Jazz Quintet Friday March 27th
DESCRIPTION:
URL:https://lenisescafe.com/event/aiko-shimada-jazz-quintet-friday-march-27th/
LOCATION:Lenise’s Cafe\, 3150 Jefferson Blvd\, West Sacramento\, CA\, 95691\, United States
ATTACH;FMTTYPE=image/jpeg:https://lenisescafe.com/wp-content/uploads/2026/03/Aiko.jpg
END:VEVENT
END:VCALENDAR