BEGIN:VCALENDAR
VERSION:2.0
PRODID:-//Lenises Cafe - ECPv6.15.20//NONSGML v1.0//EN
CALSCALE:GREGORIAN
METHOD:PUBLISH
X-ORIGINAL-URL:https://lenisescafe.com
X-WR-CALDESC:Events for Lenises Cafe
REFRESH-INTERVAL;VALUE=DURATION:PT1H
X-Robots-Tag:noindex
X-PUBLISHED-TTL:PT1H
BEGIN:VTIMEZONE
TZID:America/Los_Angeles
BEGIN:DAYLIGHT
TZOFFSETFROM:-0800
TZOFFSETTO:-0700
TZNAME:PDT
DTSTART:20250309T100000
END:DAYLIGHT
BEGIN:STANDARD
TZOFFSETFROM:-0700
TZOFFSETTO:-0800
TZNAME:PST
DTSTART:20251102T090000
END:STANDARD
BEGIN:DAYLIGHT
TZOFFSETFROM:-0800
TZOFFSETTO:-0700
TZNAME:PDT
DTSTART:20260308T100000
END:DAYLIGHT
BEGIN:STANDARD
TZOFFSETFROM:-0700
TZOFFSETTO:-0800
TZNAME:PST
DTSTART:20261101T090000
END:STANDARD
BEGIN:DAYLIGHT
TZOFFSETFROM:-0800
TZOFFSETTO:-0700
TZNAME:PDT
DTSTART:20270314T100000
END:DAYLIGHT
BEGIN:STANDARD
TZOFFSETFROM:-0700
TZOFFSETTO:-0800
TZNAME:PST
DTSTART:20271107T090000
END:STANDARD
END:VTIMEZONE
BEGIN:VEVENT
DTSTART;TZID=America/Los_Angeles:20260325T163000
DTEND;TZID=America/Los_Angeles:20260325T193000
DTSTAMP:20260419T090125
CREATED:20250731T175123Z
LAST-MODIFIED:20260305T202806Z
UID:376-1774456200-1774467000@lenisescafe.com
SUMMARY:Car Meet and Show March 25th
DESCRIPTION:Car Meet at Lenise’s Cafe! \nBring your classic\, lowrider\, sports car\, anything you want to share! \nMeet up every last Wednesday of the month. Come early to get a great parking spot!
URL:https://lenisescafe.com/event/car-meet-and-show/
LOCATION:Lenise’s Cafe\, 3150 Jefferson Blvd\, West Sacramento\, CA\, 95691\, United States
ATTACH;FMTTYPE=image/jpeg:https://lenisescafe.com/wp-content/uploads/2025/07/69stang.jpg
END:VEVENT
END:VCALENDAR