BEGIN:VCALENDAR
VERSION:2.0
PRODID:-//Lenises Cafe - ECPv6.15.20//NONSGML v1.0//EN
CALSCALE:GREGORIAN
METHOD:PUBLISH
X-ORIGINAL-URL:https://lenisescafe.com
X-WR-CALDESC:Events for Lenises Cafe
REFRESH-INTERVAL;VALUE=DURATION:PT1H
X-Robots-Tag:noindex
X-PUBLISHED-TTL:PT1H
BEGIN:VTIMEZONE
TZID:America/Los_Angeles
BEGIN:DAYLIGHT
TZOFFSETFROM:-0800
TZOFFSETTO:-0700
TZNAME:PDT
DTSTART:20240310T100000
END:DAYLIGHT
BEGIN:STANDARD
TZOFFSETFROM:-0700
TZOFFSETTO:-0800
TZNAME:PST
DTSTART:20241103T090000
END:STANDARD
BEGIN:DAYLIGHT
TZOFFSETFROM:-0800
TZOFFSETTO:-0700
TZNAME:PDT
DTSTART:20250309T100000
END:DAYLIGHT
BEGIN:STANDARD
TZOFFSETFROM:-0700
TZOFFSETTO:-0800
TZNAME:PST
DTSTART:20251102T090000
END:STANDARD
BEGIN:DAYLIGHT
TZOFFSETFROM:-0800
TZOFFSETTO:-0700
TZNAME:PDT
DTSTART:20260308T100000
END:DAYLIGHT
BEGIN:STANDARD
TZOFFSETFROM:-0700
TZOFFSETTO:-0800
TZNAME:PST
DTSTART:20261101T090000
END:STANDARD
END:VTIMEZONE
BEGIN:VEVENT
DTSTART;TZID=America/Los_Angeles:20250301T140000
DTEND;TZID=America/Los_Angeles:20251231T190000
DTSTAMP:20260420T010558
CREATED:20250307T000553Z
LAST-MODIFIED:20250307T000553Z
UID:161-1740837600-1767207600@lenisescafe.com
SUMMARY:Happy Hour Weekdays! Monday 2pm-5pm Tues/Fri 2pm - 7pm
DESCRIPTION:
URL:https://lenisescafe.com/event/happy-hour-weekdays-monday-2pm-5pm-tues-fri-2pm-7pm/
LOCATION:CA
ATTACH;FMTTYPE=image/jpeg:https://lenisescafe.com/wp-content/uploads/2025/02/HappyHour.jpg
END:VEVENT
END:VCALENDAR